Package: TCGAWorkflow Version: 1.33.0 Command: /Library/Frameworks/R.framework/Resources/bin/R CMD build --keep-empty-dirs --no-resave-data TCGAWorkflow StartedAt: 2025-07-11 13:09:09 -0400 (Fri, 11 Jul 2025) EndedAt: 2025-07-11 13:14:43 -0400 (Fri, 11 Jul 2025) EllapsedTime: 333.7 seconds RetCode: 1 Status: ERROR PackageFile: None PackageFileSize: NA