Package: TCGAWorkflow Version: 1.33.0 Command: /Library/Frameworks/R.framework/Resources/bin/R CMD INSTALL TCGAWorkflow StartedAt: 2025-07-11 13:00:46 -0400 (Fri, 11 Jul 2025) EndedAt: 2025-07-11 13:01:37 -0400 (Fri, 11 Jul 2025) EllapsedTime: 51.4 seconds RetCode: 0 Status: OK