Back to Workflows build report for BioC 3.22

This page was generated on 2025-07-11 16:30 -0400 (Fri, 11 Jul 2025).

HostnameOSArch (*)R versionInstalled pkgs
nebbiolo2Linux (Ubuntu 24.04.2 LTS)x86_644.5.1 (2025-06-13) -- "Great Square Root" 4782
palomino8Windows Server 2022 Datacenterx644.5.1 (2025-06-13 ucrt) -- "Great Square Root" 4522
lconwaymacOS 12.7.1 Montereyx86_644.5.1 (2025-06-13) -- "Great Square Root" 4565
Click on any hostname to see more info about the system (e.g. compilers)      (*) as reported by 'uname -p', except on Windows and Mac OS X

All results for package annotation


To the developers/maintainers of the annotation package:
- Use the following Renviron settings to reproduce errors and warnings.
- If 'R CMD check' started to fail recently on the Linux builder(s) over a missing dependency, add the missing dependency to 'Suggests:' in your DESCRIPTION file. See Renviron.bioc for more information.

raw results

Package 1/29HostnameOS / ArchINSTALLBUILD
annotation 1.33.0  (landing page)
Bioconductor Package Maintainer
Snapshot Date: 2025-07-11 12:45 -0400 (Fri, 11 Jul 2025)
git_url: https://git.bioconductor.org/packages/annotation
git_branch: devel
git_last_commit: 12ea099
git_last_commit_date: 2025-04-15 10:28:23 -0400 (Tue, 15 Apr 2025)
nebbiolo2Linux (Ubuntu 24.04.2 LTS) / x86_64  OK    ERROR  
palomino8Windows Server 2022 Datacenter / x64  OK    ERROR  
lconwaymacOS 12.7.1 Monterey / x86_64  OK    ERROR