Package: annotation Version: 1.35.0 Command: /Library/Frameworks/R.framework/Resources/bin/R CMD build --keep-empty-dirs --no-resave-data annotation StartedAt: 2025-11-18 13:04:25 -0500 (Tue, 18 Nov 2025) EndedAt: 2025-11-18 13:10:35 -0500 (Tue, 18 Nov 2025) EllapsedTime: 370.5 seconds RetCode: 0 Status: OK PackageFile: annotation_1.35.0.tar.gz PackageFileSize: 879 KiB