Package: arrays Version: 1.35.0 Command: /Library/Frameworks/R.framework/Resources/bin/R CMD build --keep-empty-dirs --no-resave-data arrays StartedAt: 2025-07-11 13:03:43 -0400 (Fri, 11 Jul 2025) EndedAt: 2025-07-11 13:04:08 -0400 (Fri, 11 Jul 2025) EllapsedTime: 25.1 seconds RetCode: 0 Status: OK PackageFile: arrays_1.35.0.tar.gz PackageFileSize: 9.64 MiB