Package: arrays Version: 1.35.0 Command: chmod a+r arrays -R && F:\biocbuild\bbs-3.22-bioc\R\bin\R.exe CMD build --keep-empty-dirs --no-resave-data arrays StartedAt: 2025-07-11 13:06:44 -0400 (Fri, 11 Jul 2025) EndedAt: 2025-07-11 13:07:14 -0400 (Fri, 11 Jul 2025) EllapsedTime: 29.6 seconds RetCode: 0 Status: OK PackageFile: arrays_1.35.0.tar.gz PackageFileSize: 9.64 MiB