Package: arrays Version: 1.35.0 Command: F:\biocbuild\bbs-3.22-bioc\R\bin\R.exe CMD INSTALL arrays StartedAt: 2025-07-11 13:01:28 -0400 (Fri, 11 Jul 2025) EndedAt: 2025-07-11 13:01:31 -0400 (Fri, 11 Jul 2025) EllapsedTime: 3.5 seconds RetCode: 0 Status: OK