Package: chipseqDB Version: 1.33.0 Command: /Library/Frameworks/R.framework/Resources/bin/R CMD build --keep-empty-dirs --no-resave-data chipseqDB StartedAt: 2025-07-11 13:03:43 -0400 (Fri, 11 Jul 2025) EndedAt: 2025-07-11 13:03:50 -0400 (Fri, 11 Jul 2025) EllapsedTime: 8.0 seconds RetCode: 0 Status: OK PackageFile: chipseqDB_1.33.0.tar.gz PackageFileSize: 1.119 MiB