Package: chipseqDB Version: 1.33.0 Command: /home/biocbuild/bbs-3.22-bioc/R/bin/R CMD build --keep-empty-dirs --no-resave-data chipseqDB StartedAt: 2025-07-11 13:04:44 -0400 (Fri, 11 Jul 2025) EndedAt: 2025-07-11 13:04:50 -0400 (Fri, 11 Jul 2025) EllapsedTime: 6.0 seconds RetCode: 0 Status: OK PackageFile: chipseqDB_1.33.0.tar.gz PackageFileSize: 1.119 MiB