Package: csawUsersGuide Version: 1.25.0 Command: /Library/Frameworks/R.framework/Resources/bin/R CMD INSTALL csawUsersGuide StartedAt: 2025-07-11 13:00:18 -0400 (Fri, 11 Jul 2025) EndedAt: 2025-07-11 13:00:22 -0400 (Fri, 11 Jul 2025) EllapsedTime: 4.1 seconds RetCode: 0 Status: OK