Package: csawUsersGuide Version: 1.25.0 Command: F:\biocbuild\bbs-3.22-bioc\R\bin\R.exe CMD INSTALL csawUsersGuide StartedAt: 2025-07-11 13:01:28 -0400 (Fri, 11 Jul 2025) EndedAt: 2025-07-11 13:01:30 -0400 (Fri, 11 Jul 2025) EllapsedTime: 2.7 seconds RetCode: 0 Status: OK