Package: cytofWorkflow Version: 1.33.0 Command: /home/biocbuild/bbs-3.22-bioc/R/bin/R CMD build --keep-empty-dirs --no-resave-data cytofWorkflow StartedAt: 2025-07-11 13:04:44 -0400 (Fri, 11 Jul 2025) EndedAt: 2025-07-11 13:08:59 -0400 (Fri, 11 Jul 2025) EllapsedTime: 255.1 seconds RetCode: 0 Status: OK PackageFile: cytofWorkflow_1.33.0.tar.gz PackageFileSize: 6.606 MiB