Package: fluentGenomics Version: 1.21.0 Command: /Library/Frameworks/R.framework/Resources/bin/R CMD build --keep-empty-dirs --no-resave-data fluentGenomics StartedAt: 2025-07-11 13:03:49 -0400 (Fri, 11 Jul 2025) EndedAt: 2025-07-11 13:06:47 -0400 (Fri, 11 Jul 2025) EllapsedTime: 177.6 seconds RetCode: 0 Status: OK PackageFile: fluentGenomics_1.21.0.tar.gz PackageFileSize: 5.489 MiB