Package: fluentGenomics Version: 1.21.0 Command: /Library/Frameworks/R.framework/Resources/bin/R CMD INSTALL fluentGenomics StartedAt: 2025-07-11 13:00:22 -0400 (Fri, 11 Jul 2025) EndedAt: 2025-07-11 13:00:52 -0400 (Fri, 11 Jul 2025) EllapsedTime: 30.1 seconds RetCode: 0 Status: OK