Package: fluentGenomics Version: 1.23.0 Command: /home/biocbuild/bbs-3.23-bioc/R/bin/R CMD build --keep-empty-dirs --no-resave-data fluentGenomics StartedAt: 2025-11-14 13:04:23 -0500 (Fri, 14 Nov 2025) EndedAt: 2025-11-14 13:09:30 -0500 (Fri, 14 Nov 2025) EllapsedTime: 307.1 seconds RetCode: 1 Status: ERROR PackageFile: None PackageFileSize: NA