Package: fluentGenomics Version: 1.23.0 Command: /home/biocbuild/bbs-3.23-bioc/R/bin/R CMD INSTALL fluentGenomics StartedAt: 2025-11-14 13:00:17 -0500 (Fri, 14 Nov 2025) EndedAt: 2025-11-14 13:00:53 -0500 (Fri, 14 Nov 2025) EllapsedTime: 35.4 seconds RetCode: 0 Status: OK