Package: fluentGenomics Version: 1.21.0 Command: /home/biocbuild/bbs-3.22-bioc/R/bin/R CMD INSTALL fluentGenomics StartedAt: 2025-07-11 13:00:16 -0400 (Fri, 11 Jul 2025) EndedAt: 2025-07-11 13:00:55 -0400 (Fri, 11 Jul 2025) EllapsedTime: 38.5 seconds RetCode: 0 Status: OK