Package: generegulation Version: 1.33.0 Command: /home/biocbuild/bbs-3.22-bioc/R/bin/R CMD build --keep-empty-dirs --no-resave-data generegulation StartedAt: 2025-07-15 13:04:47 -0400 (Tue, 15 Jul 2025) EndedAt: 2025-07-15 13:06:03 -0400 (Tue, 15 Jul 2025) EllapsedTime: 76.0 seconds RetCode: 0 Status: OK PackageFile: generegulation_1.33.0.tar.gz PackageFileSize: 1.288 MiB