Package: generegulation Version: 1.33.0 Command: /home/biocbuild/bbs-3.22-bioc/R/bin/R CMD INSTALL generegulation StartedAt: 2025-07-15 13:00:18 -0400 (Tue, 15 Jul 2025) EndedAt: 2025-07-15 13:00:58 -0400 (Tue, 15 Jul 2025) EllapsedTime: 40.3 seconds RetCode: 0 Status: OK