Package: highthroughputassays Version: 1.33.0 Command: /home/biocbuild/bbs-3.22-bioc/R/bin/R CMD build --keep-empty-dirs --no-resave-data highthroughputassays StartedAt: 2025-07-11 13:05:09 -0400 (Fri, 11 Jul 2025) EndedAt: 2025-07-11 13:05:36 -0400 (Fri, 11 Jul 2025) EllapsedTime: 27.0 seconds RetCode: 0 Status: OK PackageFile: highthroughputassays_1.33.0.tar.gz PackageFileSize: 514.7 KiB