Package: maEndToEnd Version: 2.29.0 Command: /home/biocbuild/bbs-3.22-bioc/R/bin/R CMD INSTALL maEndToEnd StartedAt: 2025-07-11 13:00:48 -0400 (Fri, 11 Jul 2025) EndedAt: 2025-07-11 13:01:16 -0400 (Fri, 11 Jul 2025) EllapsedTime: 28.5 seconds RetCode: 0 Status: OK