Package: methylationArrayAnalysis Version: 1.33.1 Command: /Library/Frameworks/R.framework/Resources/bin/R CMD build --keep-empty-dirs --no-resave-data methylationArrayAnalysis StartedAt: 2025-07-11 13:04:49 -0400 (Fri, 11 Jul 2025) EndedAt: 2025-07-11 13:15:30 -0400 (Fri, 11 Jul 2025) EllapsedTime: 641.3 seconds RetCode: 0 Status: OK PackageFile: methylationArrayAnalysis_1.33.1.tar.gz PackageFileSize: 218.6 MiB