Package: methylationArrayAnalysis Version: 1.33.1 Command: /Library/Frameworks/R.framework/Resources/bin/R CMD INSTALL methylationArrayAnalysis StartedAt: 2025-07-11 13:00:47 -0400 (Fri, 11 Jul 2025) EndedAt: 2025-07-11 13:03:26 -0400 (Fri, 11 Jul 2025) EllapsedTime: 158.8 seconds RetCode: 0 Status: OK