Package: methylationArrayAnalysis Version: 1.33.1 Command: /home/biocbuild/bbs-3.22-bioc/R/bin/R CMD build --keep-empty-dirs --no-resave-data methylationArrayAnalysis StartedAt: 2025-07-11 13:06:15 -0400 (Fri, 11 Jul 2025) EndedAt: 2025-07-11 13:19:04 -0400 (Fri, 11 Jul 2025) EllapsedTime: 769.1 seconds RetCode: 0 Status: OK PackageFile: methylationArrayAnalysis_1.33.1.tar.gz PackageFileSize: 218.6 MiB