Package: methylationArrayAnalysis Version: 1.33.1 Command: /home/biocbuild/bbs-3.22-bioc/R/bin/R CMD INSTALL methylationArrayAnalysis StartedAt: 2025-07-11 13:00:45 -0400 (Fri, 11 Jul 2025) EndedAt: 2025-07-11 13:04:33 -0400 (Fri, 11 Jul 2025) EllapsedTime: 228.4 seconds RetCode: 0 Status: OK