Package: recountWorkflow Version: 1.33.0 Command: /home/biocbuild/bbs-3.22-bioc/R/bin/R CMD build --keep-empty-dirs --no-resave-data recountWorkflow StartedAt: 2025-07-11 13:06:32 -0400 (Fri, 11 Jul 2025) EndedAt: 2025-07-11 13:22:22 -0400 (Fri, 11 Jul 2025) EllapsedTime: 949.9 seconds RetCode: 0 Status: OK PackageFile: recountWorkflow_1.33.0.tar.gz PackageFileSize: 4.322 MiB