Package: recountWorkflow Version: 1.33.0 Command: /home/biocbuild/bbs-3.22-bioc/R/bin/R CMD INSTALL recountWorkflow StartedAt: 2025-07-11 13:00:44 -0400 (Fri, 11 Jul 2025) EndedAt: 2025-07-11 13:01:43 -0400 (Fri, 11 Jul 2025) EllapsedTime: 59.0 seconds RetCode: 0 Status: OK