Package: rnaseqDTU Version: 1.29.0 Command: /home/biocbuild/bbs-3.22-bioc/R/bin/R CMD build --keep-empty-dirs --no-resave-data rnaseqDTU StartedAt: 2025-07-11 13:08:12 -0400 (Fri, 11 Jul 2025) EndedAt: 2025-07-11 13:10:19 -0400 (Fri, 11 Jul 2025) EllapsedTime: 127.1 seconds RetCode: 0 Status: OK PackageFile: rnaseqDTU_1.29.0.tar.gz PackageFileSize: 8.745 MiB