Package: rnaseqDTU Version: 1.29.0 Command: /home/biocbuild/bbs-3.22-bioc/R/bin/R CMD INSTALL rnaseqDTU StartedAt: 2025-07-11 13:00:26 -0400 (Fri, 11 Jul 2025) EndedAt: 2025-07-11 13:01:07 -0400 (Fri, 11 Jul 2025) EllapsedTime: 41.1 seconds RetCode: 0 Status: OK