Package: rnaseqGene Version: 1.33.0 Command: /home/biocbuild/bbs-3.22-bioc/R/bin/R CMD build --keep-empty-dirs --no-resave-data rnaseqGene StartedAt: 2025-07-11 13:08:24 -0400 (Fri, 11 Jul 2025) EndedAt: 2025-07-11 13:11:02 -0400 (Fri, 11 Jul 2025) EllapsedTime: 158.3 seconds RetCode: 0 Status: OK PackageFile: rnaseqGene_1.33.0.tar.gz PackageFileSize: 1.557 MiB