Package: seqpac Version: 1.9.1 Command: /home/biocbuild/bbs-3.22-bioc/R/bin/R CMD build --keep-empty-dirs --no-resave-data seqpac StartedAt: 2025-07-11 13:08:59 -0400 (Fri, 11 Jul 2025) EndedAt: 2025-07-11 13:11:50 -0400 (Fri, 11 Jul 2025) EllapsedTime: 171.3 seconds RetCode: 0 Status: OK PackageFile: seqpac_1.9.1.tar.gz PackageFileSize: 3.135 MiB