Package: seqpac Version: 1.9.1 Command: /home/biocbuild/bbs-3.22-bioc/R/bin/R CMD INSTALL seqpac StartedAt: 2025-07-11 13:00:16 -0400 (Fri, 11 Jul 2025) EndedAt: 2025-07-11 13:00:29 -0400 (Fri, 11 Jul 2025) EllapsedTime: 12.2 seconds RetCode: 0 Status: OK