Package: sequencing Version: 1.33.0 Command: /Library/Frameworks/R.framework/Resources/bin/R CMD INSTALL sequencing StartedAt: 2025-07-15 13:00:23 -0400 (Tue, 15 Jul 2025) EndedAt: 2025-07-15 13:00:47 -0400 (Tue, 15 Jul 2025) EllapsedTime: 24.2 seconds RetCode: 0 Status: OK