Package: spicyWorkflow Version: 1.9.0 Command: /home/biocbuild/bbs-3.22-bioc/R/bin/R CMD INSTALL spicyWorkflow StartedAt: 2025-07-11 13:00:12 -0400 (Fri, 11 Jul 2025) EndedAt: 2025-07-11 13:00:16 -0400 (Fri, 11 Jul 2025) EllapsedTime: 4.3 seconds RetCode: 0 Status: OK