Package: variants Version: 1.35.0 Command: /Library/Frameworks/R.framework/Resources/bin/R CMD build --keep-empty-dirs --no-resave-data variants StartedAt: 2025-11-18 13:10:42 -0500 (Tue, 18 Nov 2025) EndedAt: 2025-11-18 13:11:57 -0500 (Tue, 18 Nov 2025) EllapsedTime: 75.3 seconds RetCode: 0 Status: OK PackageFile: variants_1.35.0.tar.gz PackageFileSize: 4.84 MiB