Package: variants Version: 1.35.0 Command: /Library/Frameworks/R.framework/Resources/bin/R CMD INSTALL variants StartedAt: 2025-11-18 13:01:24 -0500 (Tue, 18 Nov 2025) EndedAt: 2025-11-18 13:01:46 -0500 (Tue, 18 Nov 2025) EllapsedTime: 21.3 seconds RetCode: 0 Status: OK