Package: ASEB Version: 1.50.0 Command: /Library/Frameworks/R.framework/Resources/bin/R CMD build --keep-empty-dirs --no-resave-data ASEB StartedAt: 2025-02-03 18:48:08 -0500 (Mon, 03 Feb 2025) EndedAt: 2025-02-03 18:48:27 -0500 (Mon, 03 Feb 2025) EllapsedTime: 19.5 seconds RetCode: 0 Status: OK PackageFile: ASEB_1.50.0.tar.gz PackageFileSize: 602.4 KiB