Package: ASICS Version: 2.22.0 Command: rm -rf ASICS.buildbin-libdir && mkdir ASICS.buildbin-libdir && /Users/biocbuild/BBS/utils/build-universal.sh ASICS_2.22.0.tar.gz /Library/Frameworks/R.framework/Resources/bin/R ASICS.buildbin-libdir StartedAt: 2025-02-05 14:50:06 -0500 (Wed, 05 Feb 2025) EndedAt: 2025-02-05 14:50:49 -0500 (Wed, 05 Feb 2025) EllapsedTime: 43.0 seconds RetCode: 0 Status: OK PackageFile: ASICS_2.22.0.tgz PackageFileSize: 4.172 MiB