Package: ASICS Version: 2.22.0 Command: /Library/Frameworks/R.framework/Resources/bin/R CMD build --keep-empty-dirs --no-resave-data ASICS StartedAt: 2025-02-03 18:48:18 -0500 (Mon, 03 Feb 2025) EndedAt: 2025-02-03 18:52:50 -0500 (Mon, 03 Feb 2025) EllapsedTime: 272.6 seconds RetCode: 0 Status: OK PackageFile: ASICS_2.22.0.tar.gz PackageFileSize: 3.581 MiB