Package: AnVILWorkflow Version: 1.6.0 Command: rm -rf AnVILWorkflow.buildbin-libdir && mkdir AnVILWorkflow.buildbin-libdir && /Users/biocbuild/BBS/utils/build-universal.sh AnVILWorkflow_1.6.0.tar.gz /Library/Frameworks/R.framework/Resources/bin/R AnVILWorkflow.buildbin-libdir StartedAt: 2025-02-05 14:48:44 -0500 (Wed, 05 Feb 2025) EndedAt: 2025-02-05 14:48:51 -0500 (Wed, 05 Feb 2025) EllapsedTime: 6.8 seconds RetCode: 0 Status: OK PackageFile: AnVILWorkflow_1.6.0.tgz PackageFileSize: 1.016 MiB