Package: CINdex Version: 1.34.0 Command: /Library/Frameworks/R.framework/Resources/bin/R CMD build --keep-empty-dirs --no-resave-data CINdex StartedAt: 2025-02-03 17:52:35 -0500 (Mon, 03 Feb 2025) EndedAt: 2025-02-03 18:01:37 -0500 (Mon, 03 Feb 2025) EllapsedTime: 541.7 seconds RetCode: 0 Status: OK PackageFile: CINdex_1.34.0.tar.gz PackageFileSize: 12.51 MiB