Package: CNORfeeder Version: 1.46.0 Command: /Library/Frameworks/R.framework/Resources/bin/R CMD INSTALL CNORfeeder StartedAt: 2025-02-03 16:00:38 -0500 (Mon, 03 Feb 2025) EndedAt: 2025-02-03 16:00:58 -0500 (Mon, 03 Feb 2025) EllapsedTime: 19.4 seconds RetCode: 0 Status: OK