Package: CNORfeeder Version: 1.46.0 Command: F:\biocbuild\bbs-3.20-bioc\R\bin\R.exe CMD INSTALL CNORfeeder StartedAt: 2025-01-30 15:50:35 -0500 (Thu, 30 Jan 2025) EndedAt: 2025-01-30 15:51:05 -0500 (Thu, 30 Jan 2025) EllapsedTime: 30.1 seconds RetCode: 0 Status: OK