Package: CaMutQC Version: 1.2.0 Command: /home/biocbuild/bbs-3.20-bioc/R/bin/R CMD build --keep-empty-dirs --no-resave-data --md5 CaMutQC StartedAt: 2025-01-30 16:32:50 -0500 (Thu, 30 Jan 2025) EndedAt: 2025-01-30 16:33:57 -0500 (Thu, 30 Jan 2025) EllapsedTime: 67.1 seconds RetCode: 0 Status: OK PackageFile: CaMutQC_1.2.0.tar.gz PackageFileSize: 4.846 MiB