Package: CellMixS Version: 1.22.0 Command: rm -rf CellMixS.buildbin-libdir && mkdir CellMixS.buildbin-libdir && F:\biocbuild\bbs-3.20-bioc\R\bin\R.exe CMD INSTALL --build --library=CellMixS.buildbin-libdir CellMixS_1.22.0.tar.gz StartedAt: 2025-02-04 08:09:40 -0500 (Tue, 04 Feb 2025) EndedAt: 2025-02-04 08:10:17 -0500 (Tue, 04 Feb 2025) EllapsedTime: 36.8 seconds RetCode: 0 Status: OK PackageFile: CellMixS_1.22.0.zip PackageFileSize: 2.697 MiB