Package: CellMixS Version: 1.22.0 Command: chmod a+r CellMixS -R && F:\biocbuild\bbs-3.20-bioc\R\bin\R.exe CMD build --keep-empty-dirs --no-resave-data CellMixS StartedAt: 2025-02-03 18:01:19 -0500 (Mon, 03 Feb 2025) EndedAt: 2025-02-03 18:04:39 -0500 (Mon, 03 Feb 2025) EllapsedTime: 199.3 seconds RetCode: 0 Status: OK PackageFile: CellMixS_1.22.0.tar.gz PackageFileSize: 2.604 MiB