Package: CleanUpRNAseq Version: 1.0.0 Command: rm -rf CleanUpRNAseq.buildbin-libdir && mkdir CleanUpRNAseq.buildbin-libdir && F:\biocbuild\bbs-3.20-bioc\R\bin\R.exe CMD INSTALL --build --library=CleanUpRNAseq.buildbin-libdir CleanUpRNAseq_1.0.0.tar.gz StartedAt: 2025-01-31 08:22:47 -0500 (Fri, 31 Jan 2025) EndedAt: 2025-01-31 08:24:08 -0500 (Fri, 31 Jan 2025) EllapsedTime: 81.7 seconds RetCode: 0 Status: OK PackageFile: CleanUpRNAseq_1.0.0.zip PackageFileSize: 2.145 MiB