Package: CleanUpRNAseq Version: 1.0.0 Command: /home/biocbuild/R/R/bin/R CMD build --keep-empty-dirs --no-resave-data CleanUpRNAseq StartedAt: 2025-01-30 22:38:46 -0000 (Thu, 30 Jan 2025) EndedAt: 2025-01-30 22:41:59 -0000 (Thu, 30 Jan 2025) EllapsedTime: 193.1 seconds RetCode: 0 Status: OK PackageFile: CleanUpRNAseq_1.0.0.tar.gz PackageFileSize: 2.006 MiB