Package: CoGAPS Version: 3.26.0 Command: /Library/Frameworks/R.framework/Resources/bin/R CMD INSTALL CoGAPS StartedAt: 2025-01-30 17:26:49 -0500 (Thu, 30 Jan 2025) EndedAt: 2025-01-30 17:28:39 -0500 (Thu, 30 Jan 2025) EllapsedTime: 110.5 seconds RetCode: 0 Status: OK