Package: DEGseq Version: 1.60.0 Command: /home/biocbuild/bbs-3.20-bioc/R/bin/R CMD INSTALL DEGseq StartedAt: 2025-02-03 15:24:02 -0500 (Mon, 03 Feb 2025) EndedAt: 2025-02-03 15:24:14 -0500 (Mon, 03 Feb 2025) EllapsedTime: 11.8 seconds RetCode: 0 Status: OK